BEGIN:VCALENDAR
PROID:-//Inova//Class Registration//EN
BEGIN:VEVENT
CLASS:PUBLIC
UID:5b36f2a7-1c31-466c-8864-1528db0baabc@Class Registration@Inova
DESCRIPTION:Class Name: Maternity Tour - Inova Fair Oaks Hospital\n\nLocation:\nInova F
 air Oaks Hospital\n3600 Joseph Siewick Drive\nFairfax, VA, 22033\nGet additi
 onal class details at: https://www.inovaevents.org/CREG/ClassDetails.aspx?si
 d=0&ClassId=43200\nMap And Directions: https://maps.google.com/maps?f=q&hl=e
 n&geocode=&q=3600+Joseph+Siewick+Drive,Fairfax,VA,22033\n\nAdditional Detail
 s:\n\nAddress: 3600 Joseph Siewick Dr., Fairfax, VA 22033\nTour Parking and 
 Arrival:&nbsp;\nPlenty of free parking is available on the s
 urface lot or in the parking garage - do not park in reserved spaces.\nParti
 cipants meet in Visitors Entrance Lobby to start the tour and should not att
 empt to access the Labor &amp; Delivery or Postpartum Units 
 without a tour guide. TOURS START ON TIME. PLEASE ALLOW EXTRA TIME TO DRIVE,
  PARK AND GET TO YOUR TOUR.&nbsp;&nbsp;\n\nW
 hat to Bring:\nPlease feel free to bring drinking water. Other food and drin
 k are not permitted.\nPlease bring a printed or electronic copy of your conf
 irmation email to your tour.\nTours fill quickly and it can be difficult to 
 find an open tour!&nbsp;If you are unable to attend your tou
 r, please call Inova Well at 571-472-1401, or email us at&nbspabcdsemicolond
 cbachildbirtheducation@inova.org&nbsp;to cancel so another p
 articipant has the opportunity register. If you are unable to attend your to
 ur as scheduled, we cannot guarantee you will be rescheduled due to the limi
 ted number of in-person tours being offered at this time.\nWeather Policy:\n
 Information about cancellations due to inclement weather or an area emergenc
 y can be obtained by calling the Inova Well weather hotline at&nbspabcdsemic
 olondcba571-472-1438. Tour cancellations do not always follow local public s
 chool closings.\n\nTours are conducted in English unless an interpreter has 
 been requested. Please email childbirtheducation@inova.org to request an ASL
  or spoken language interpreter at least one week prior to your tour.Childre
 n are not permitted.Your registration includes participant and one&nbspabcds
 emicolondcbaadult&nbsp;partner.We also invite you to take ad
 vantage of our convenient virtual maternity tours by visiting&nbspabcdsemico
 londcbawww.inova.org/childbirth.\n\n\nFor urgent matters after 5pm weekdays 
 or on weekends, please call or text&nbsp;571-835-5037&nbspab
 cdsemicolondcbato get in touch with an Inova Well team member.\n&nbspabcdsem
 icolondcba\nInova Fair Oaks Hospital looks forward to welcoming you!\nCongra
 tulations! The arrival of a new baby is one of life’s most exciting events. 
 We hope that your upcoming visit makes you more comfortable with Inova Fair 
 Oaks Hospital and our team of experienced healthcare professionals. Inova Fa
 ir Oaks is Northern Virginia’s only hospital rated high performing in matern
 ity care for three consecutive years by U.S. News &amp; Worl
 d Report.\n&nbsp;\nInova Fair Oaks Hospital blends the warmt
 h and comfort of a home-like setting with the expertise, safety, and conveni
 ence of a full-service hospital. We offer everything you need for an intimat
 e and personalized birth experience.&nbsp; Our commitment is
  to provide you with a safe, joyful and memorable childbirth experience. \n&
 nbsp;\nIn your tour you will learn more about the following:
 \n&nbsp;Where to go when it’s time!Complimentary visitor par
 kingOnline pre-registration 60 to 90 days prior to your due dateOn-site ante
 natal testing center for outpatient testing and treatmentsIn-house obstetric
 ians available 24/7Private and spacious rooms and In our Labor &ampabcdsemic
 olondcba Delivery and Postpartum Care unitsSafety and security measures desi
 gned to keep you and your baby safeOur well-baby nursery Neonatal intensive 
 care (NICU) for newborns requiring specialized care. Access to Inova Childre
 n’s Level IV NICU in Fairfax for higher-level care if necessaryLactation con
 sultants available to assist each breastfeeding patientLactation center and 
 boutique where you’ll find all the help and items you need to support your d
 ecision to breastfeed.\n&nbsp;\nIn addition to sponsoring yo
 ur hospital tour, Inova Well offers a variety of childbirth education classe
 s.&nbsp; Classes not only help you learn about and prepare f
 or labor and birth, but they are considered a key component of prenatal care
 !&nbsp; Give your baby the best possible start, register for
  a class today!&nbsp;&nbsp;&nbspabcdsemicolo
 ndcba \n&nbsp;\nThank you for choosing Inova Fair Oaks Hospi
 tal!&nbsp; For more information on childbirth services, visi
 t our web page. \n &nbsp; We look forward to seeing you soon
 .\n\n
SUMMARY:Maternity Tour - Inova Fair Oaks Hospital
DTSTART:20260509T141500Z
DTEND:20260509T151500Z
DTSTAMP:20260419T191605Z
LOCATION:Inova Fair Oaks Hospital
LAST-MODIFIED:20260415T150709Z
CREATED:20260415T150709Z
END:VEVENT
END:VCALENDAR
