BEGIN:VCALENDAR
PROID:-//Inova//Class Registration//EN
BEGIN:VEVENT
CLASS:PUBLIC
UID:0217518f-26ac-4c07-aaf2-1c3abfb8969c@Class Registration@Inova
DESCRIPTION:Class Name: Maternity Tour - Inova Alexandria Hospital\n\nLocation:\nInova 
 Alexandria Hospital\n4320 Seminary Road\nAlexandria, VA, 22304\nGet addition
 al class details at: https://www.inovaevents.org/CREG/ClassDetails.aspx?sid=
 0&ClassId=43169\nMap And Directions: https://maps.google.com/maps?f=q&hl=en&
 geocode=&q=4320+Seminary+Road,Alexandria,VA,22304\n\nAdditional Details:\nPl
 ease reschedule your class if you are experiencing a fever or flu-like sympt
 oms to help keep everyone healthy.&nbsp;\n\nAdditional Detai
 ls:\n\nAddress: 4320 Seminary Rd., Alexandria, VA 22304\n\nTour Parking and 
 Arrival:&nbsp;TOURS START ON TIME. PLEASE ALLOW EXTRA TIME T
 O DRIVE, PARK AND GET TO YOUR TOUR.&nbsp;&nbspabcdsemicolond
 cbaFree parking available across the street from the hospital or paid parkin
 g is available near the Visitors Entrance.\nCheck in at the security desk to
  let them know that you are there for a maternity tour and to receive your v
 isitor's badgeProceed to your right to the couches in front of the windows a
 cross from the gift shopYour tour guide will meet you here which is where th
 e tour beginsNote:&nbsp;you do not need to proceed to anywhe
 re else in the hospital; the tour begins in the lobby\nWhat 
 to Bring:\nPlease feel free to bring drinking water. Other food and drink ar
 e not permitted.\nPlease bring a printed or electronic copy of your confirma
 tion email to your tour.\nTours fill quickly and it can be difficult to find
  an open tour!&nbsp;If you are unable to attend your tour, p
 lease call Inova Well at 571-472-1401, or email us at&nbsp;c
 hildbirtheducation@inova.org&nbsp;to cancel so another parti
 cipant has the opportunity register. If you are unable to attend your tour a
 s scheduled, we cannot guarantee you will be rescheduled due to the limited 
 number of in-person tours being offered at this time.\nRefund Policy:\nPleas
 e&nbsp;click here&nbsp;to read the Cancellat
 ion, Refund, Transfer &amp; Weather Policy.\n\nWeather Polic
 y:\nInformation about cancellations due to inclement weather or an area emer
 gency can be obtained by calling the Inova Well weather hotline at&nbspabcds
 emicolondcba571-472-1438. Tour cancellations do not always follow local publ
 ic-school closings.\n\nTours are conducted in English unless an interpreter 
 has been requested. Please email childbirtheducation@inova.org to request an
  ASL or spoken language interpreter at least one week prior to your tour.Chi
 ldren are not permitted.Your registration includes participant and one&nbspa
 bcdsemicolondcbaadult&nbsp;partner.We also invite you to tak
 e advantage of our convenient virtual maternity tours by visiting&nbspabcdse
 micolondcbawww.inova.org/childbirth.\n​\nFor urgent matters after 5pm weekda
 ys or on weekends, please call or text&nbsp;571-835-5037&nbs
 p;to get in touch with an Inova Well team member.\n&nbspabcd
 semicolondcba\n\n&nbsp;\nInova Alexandria Hospital looks for
 ward to welcoming you!\n\nCongratulations!&nbsp; The arrival
  of a new baby is one of life’s most exciting events.&nbsp; 
 We hope that your upcoming visit makes you more comfortable with Inova Alexa
 ndria Hospital and our team of experienced healthcare professionals.&nbspabc
 dsemicolondcba\n\nInova Alexandria Hospital blends the warmth and comfort of
  a home-like setting with the expertise, safety and convenience of a full-se
 rvice hospital. We offer everything you need for an intimate and personalize
 d birth experience.&nbsp; Our commitment is to provide you w
 ith a safe joyful and memorable childbirth experience.&nbsp;
 \n\nIn your tour you will learn more about the following:\n\nWhere to go whe
 n it’s time!\n• Visitor parking\n• Online pre-registration 60 to 90 days pri
 or to your due date\n• In-house obstetricians available 24/7\n• The Brock Fa
 mily Antenatal Testing Center (outpatient service for high-risk pregnancies)
 \n• Private and spacious rooms on our Labor &amp; Delivery a
 nd Postpartum Care units&nbsp;\n• Safety and security measur
 es designed to keep you and your baby safe\n• Our well-baby nursery&nbspabcd
 semicolondcba\n• Neonatal intensive care (NICU) for newborns requiring speci
 alized care. Access to Inova Children’s Level IV NICU in Fairfax for higher-
 level care if necessary\n• Lactation consultants available to assist each br
 eastfeeding patient\n• Lactation center and boutique where you’ll find all t
 he help and items you need to support your decision to breastfeed.\n\nIn add
 ition to sponsoring your hospital tour, Inova Well offers a variety of child
 birth education classes.&nbsp; Classes not only help you lea
 rn about and prepare for labor and birth, but they are considered a key comp
 onent of prenatal care!&nbsp; Give your baby the best possib
 le start, register for a class today!&nbsp; &nbspabcdsemicol
 ondcba&nbsp;\n\nThank you for choosing Inova Alexandria Hosp
 ital!&nbsp; For more information on childbirth services, vis
 it our web page.&nbsp;\n\nWe look forward to seeing you soon
 .\n&nbsp;\n&nbsp;\n&nbsp;\n\
 n
SUMMARY:Maternity Tour - Inova Alexandria Hospital
DTSTART:20260509T190000Z
DTEND:20260509T200000Z
DTSTAMP:20260419T193558Z
LOCATION:Inova Alexandria Hospital
LAST-MODIFIED:20260414T145858Z
CREATED:20260414T145858Z
END:VEVENT
END:VCALENDAR
