BEGIN:VCALENDAR
PROID:-//Inova//Class Registration//EN
BEGIN:VEVENT
CLASS:PUBLIC
UID:4a72402b-93f4-4d86-9041-f0fd741f2e4f@Class Registration@Inova
DESCRIPTION:Class Name: Maternity Tour - Inova Fairfax Hospital\n\nLocation:\nInova Fai
 rfax Hospital\n3300 Gallows Road\nFairfax, VA, 22042\nGet additional class d
 etails at: https://www.inovaevents.org/CREG/ClassDetails.aspx?sid=0&ClassId=
 43086\nMap And Directions: https://maps.google.com/maps?f=q&hl=en&geocode=&q
 =3300+Gallows+Road,Fairfax,VA,22042\n\nAdditional Details:\n\nAddress:&nbspa
 bcdsemicolondcba 3300 Gallows Road Falls Church, VA 22042\n\nParking:&nbspab
 cdsemicolondcba Park in the Green Garage.&nbsp; One parking 
 voucher provided per registration at the end of the tour.\nArriving for your
  tour:&nbsp;TOURS START ON TIME. PLEASE ALLOW EXTRA TIME TO 
 DRIVE, PARK AND GET TO YOUR TOUR.&nbsp;&nbspabcdsemicolondcb
 a&nbsp;Park in the Green parking garage across from the Inov
 a Women’s HospitalEnter the Inova Women's Hospital through the Door 81 – dir
 ectly across from the Green garageCheck in at the security desk to let them 
 know that you are there for a maternity tour and to receive your visitor's b
 adgeProceed to your right to the couches in front of the windows across from
  the main registration desk in the lobbyYour tour guide will meet you here w
 hich is where the tour beginsNote:&nbsp;you do not need to p
 roceed to anywhere else in the hospital; the tour begins in 
 the lobby\nWhat to Bring:\nPlease feel free to bring drinking water. Other f
 ood and drink are not permitted.\nPlease bring a printed or electronic copy 
 of your confirmation email to your tour.\nTours fill quickly and it can be d
 ifficult to find an open tour!&nbsp;If you are unable to att
 end your tour, please call Inova Well at&nbsp;571-472-1401, 
 or email us at&nbsp;childbirtheducation@inova.org&nbspabcdse
 micolondcbato cancel so another participant has the opportunity register. If
  you are unable to attend your tour as scheduled, we cannot guarantee you wi
 ll be rescheduled due to the limited number of in-person tours being offered
  at this time.\nRefund Policy:\nPlease&nbsp;click here&nbspa
 bcdsemicolondcbato read the Cancellation, Refund, Transfer &ampabcdsemicolon
 dcba Weather Policy.\n\nWeather Policy:\nInformation about cancellations due
  to inclement weather or an area emergency can be obtained by calling the In
 ova Well weather hotline at&nbsp;571-472-1438. Tour cancella
 tions do not always follow local public-school closings.Tours are conducted 
 in English unless an interpreter has been requested. Please email&nbspabcdse
 micolondcbachildbirtheducation@inova.org&nbsp;to request an 
 ASL or spoken language interpreter at least one week prior to your tour.Regi
 stration includes participant and one adult partner.&nbsp;Ch
 ildren are not permitted on the tour.&nbsp;We also invite yo
 u to take advantage of our convenient virtual maternity tours by visiting&nb
 sp;www.inova.org/childbirth.\n​\nFor urgent matters after 5p
 m weekdays or on weekends, please call or text&nbsp;571-835-
 5037&nbsp;to get in touch with an Inova Well team member.
SUMMARY:Maternity Tour - Inova Fairfax Hospital
DTSTART:20260423T193000Z
DTEND:20260423T203000Z
DTSTAMP:20260420T005120Z
LOCATION:Inova Fairfax Hospital
LAST-MODIFIED:20260326T160548Z
CREATED:20260326T160548Z
END:VEVENT
END:VCALENDAR
