BEGIN:VCALENDAR
PROID:-//Inova//Class Registration//EN
BEGIN:VEVENT
CLASS:PUBLIC
UID:d7fea599-8ea9-4e1f-a844-604a81162772@Class Registration@Inova
DESCRIPTION:Class Name: Maternity Tour - Inova Loudoun Hospital\n\nLocation:\nInova Lou
 doun Hospital (44045 Building)\n44045 Riverside Parkway\nLeesburg, VA, 20176
 \nGet additional class details at: https://www.inovaevents.org/CREG/ClassDet
 ails.aspx?sid=0&ClassId=43051\nMap And Directions: https://maps.google.com/m
 aps?f=q&hl=en&geocode=&q=44045+Riverside+Parkway,Leesburg,VA,20176\n\nAdditi
 onal Details:\nAdditional Details:\n\nAddress: 44045 Riverside Pkwy., Leesbu
 rg, VA 20176\nTour Parking and Arrival:&nbsp;TOURS START ON 
 TIME. PLEASE ALLOW EXTRA TIME TO DRIVE, PARK AND GET TO YOUR TOUR.&nbspabcds
 emicolondcba&nbsp;Park either in front of the North entrance
  to Inova Loudoun Hospital or in the adjacent garage – parking is freeEnter 
 Inova Loudoun Hospital through the North entrance doorwayCheck in at the sec
 urity/registration desk to let them know you are there for a maternity tour 
 and to receive your visitor badgeProceed to your left to the couches/seating
  area in the lobbyYour tour guide will meet you here which is where the tour
  beginsNote: you do not need to proceed to anywhere else in the hospitalabcd
 semicolondcba the tour begins in the lobby\nWhat to Bring:\nPlease feel free
  to bring drinking water. Other food and drink are not permitted.\nPlease br
 ing a printed or electronic copy of your confirmation email to your tour.\nT
 ours fill quickly and it can be difficult to find an open tour!&nbspabcdsemi
 colondcbaIf you are unable to attend your tour, please call Inova Well at 57
 1-472-1401, or email us at&nbsp;childbirtheducation@inova.or
 g to cancel so another participant has the opportunity register. If you are 
 unable to attend your tour as scheduled, we cannot guarantee you will be res
 cheduled due to the limited number of in-person tours being offered at this 
 time.\nWeather Policy:\nInformation about cancellations due to inclement wea
 ther or an area emergency can be obtained by calling the Inova Well weather 
 hotline at&nbsp;571-472-1438. Tour cancellations do not alwa
 ys follow local public school closings.\n\nTours are conducted in English un
 less an interpreter has been requested. Please email childbirtheducation@ino
 va.org to request an ASL or spoken language interpreter at least one week pr
 ior to your tour.Children are not permitted.Your registration includes parti
 cipant and one&nbsp;adult&nbsp;partner.We al
 so invite you to take advantage of our convenient virtual maternity tours by
  visiting&nbsp;www.inova.org/childbirth.\n&nbspabcdsemicolon
 dcba\n\nFor urgent matters after 5pm weekdays or on weekends, please call or
  text&nbsp;571-835-5037&nbsp;to get in touch
  with an Inova Well team member.\n&nbsp;\n\nInova Loudoun Ho
 spital looks forward to welcoming you!\nCongratulations! The arrival of a ne
 w baby is one of life’s most exciting events. We hope that your upcoming vis
 it makes you more comfortable with Inova Loudoun Hospital and our team of ex
 perienced healthcare professionals.\nOur new childbirth facility was built i
 n the hospital’s North Tower and opened in 2020 and features modern comfort 
 with the technology, safety, and convenience of a state-of-the-art medical f
 acility. We offer everything you need for an intimate and personalized birth
  experience.&nbsp;\nIn your tour you will learn more about t
 he following:\n&nbsp;Where to go when it’s time!Complimentar
 y visitor parkingOnline pre-registration&nbsp;60 to 90 days 
 prior to your due dateIn-house obstetricians, OB emergency department and an
 esthesiology, all available 24/7Private and spacious rooms in our Labor &amp
 ; Delivery and Postpartum Care unitsAntepartum rooms for wom
 en with high-risk pregnancies requiring inpatient care before deliverySafety
  and security measures designed to keep you and your baby safeThe well-baby 
 nurseryNeonatal intensive care with overnight accommodations for parents. Ac
 cess to Inova Children's Level IV NICU in Fairfax for higher-level care if n
 ecessaryLactation consultants available to assist each breastfeeding patient
 Lactation center and boutique&nbsp;where you’ll find all the
  help and items you need to support your decision to breastfeed\n&nbspabcdse
 micolondcba\nIn addition to sponsoring your hospital tour, Inova Well offers
  a variety of childbirth education classes.&nbsp; Classes no
 t only help you learn about and prepare for labor and birth, but they are co
 nsidered a key component of prenatal care!&nbsp;&nbspabcdsem
 icolondcbaGive your baby the best possible start,&nbsp;regis
 ter for a class today!&nbsp; &nbsp;\nThank y
 ou for choosing Inova Loudoun Hospital!&nbsp;
SUMMARY:Maternity Tour - Inova Loudoun Hospital
DTSTART:20260505T211500Z
DTEND:20260505T221500Z
DTSTAMP:20260419T194119Z
LOCATION:Inova Loudoun Hospital (44045 Building)
LAST-MODIFIED:20260311T171754Z
CREATED:20260311T171754Z
END:VEVENT
END:VCALENDAR
