BEGIN:VCALENDAR
PROID:-//Inova//Class Registration//EN
BEGIN:VEVENT
CLASS:PUBLIC
UID:25e4b94e-586a-46d9-a23c-4b7bf61a4e0f@Class Registration@Inova
DESCRIPTION:Class Name: Maternity Tour - Inova Fairfax Hospital\n\nLocation:\nInova Fai
 rfax Hospital\n3300 Gallows Road\nFairfax, VA, 22042\nGet additional class d
 etails at: https://www.inovaevents.org/CREG/ClassDetails.aspx?sid=0&ClassId=
 42949\nMap And Directions: https://maps.google.com/maps?f=q&hl=en&geocode=&q
 =3300+Gallows+Road,Fairfax,VA,22042\n\nAdditional Details:\n\nAddress:&nbspa
 bcdsemicolondcba 3300 Gallows Road Falls Church, VA 22042\nParking:&nbspabcd
 semicolondcba Park in the Green Garage.&nbsp; One parking vo
 ucher provided per registration at the end of the tour.\nArriving for your t
 our:&nbsp;TOURS START ON TIME. PLEASE ALLOW EXTRA TIME TO DR
 IVE, PARK AND GET TO YOUR TOUR.&nbsp;&nbsp;P
 ark in the Green parking garage across from the Inova Women’s HospitalEnter 
 the Inova Women's Hospital through the Door 81 – directly across from the Gr
 een garageCheck in at the security desk to let them know that you are there 
 for a maternity tour and to receive your visitor's badgeProceed to your righ
 t to the couches in front of the windows across from the main registration d
 esk in the lobbyYour tour guide will meet you here which is where the tour b
 eginsNote:&nbsp;you do not need to proceed to anywhere else 
 in the hospital; the tour begins in the lobby\nWhat to Bring
 :\nPlease feel free to bring drinking water. Other food and drink are not pe
 rmitted.\nPlease bring a printed or electronic copy of your confirmation ema
 il to your tour.\nTours fill quickly and it can be difficult to find an open
  tour!&nbsp;If you are unable to attend your tour, please ca
 ll Inova Well at&nbsp;571-472-1401, or email us at&nbspabcds
 emicolondcbachildbirtheducation@inova.org&nbsp;to cancel so 
 another participant has the opportunity register. If you are unable to atten
 d your tour as scheduled, we cannot guarantee you will be rescheduled due to
  the limited number of in-person tours being offered at this time.\nRefund P
 olicy:\nPlease&nbsp;click here&nbsp;to read 
 the Cancellation, Refund, Transfer &amp; Weather Policy.\n\n
 Weather Policy:\nInformation about cancellations due to inclement weather or
  an area emergency can be obtained by calling the Inova Well weather hotline
  at&nbsp;571-472-1438. Tour cancellations do not always foll
 ow local public-school closings.Tours are conducted in English unless an int
 erpreter has been requested. Please email&nbsp;childbirthedu
 cation@inova.org&nbsp;to request an ASL or spoken language i
 nterpreter at least one week prior to your tour.Registration includes partic
 ipant and one adult partner.&nbsp;Children are not permitted
  on the tour.&nbsp;We also invite you to take advantage of o
 ur convenient virtual maternity tours by visiting&nbsp;www.i
 nova.org/childbirth.\n​\nFor urgent matters after 5pm weekdays or on weekend
 s, please call or text&nbsp;571-835-5037&nbspabcdsemicolondc
 bato get in touch with an Inova Well team member.
SUMMARY:Maternity Tour - Inova Fairfax Hospital
DTSTART:20260421T193000Z
DTEND:20260421T203000Z
DTSTAMP:20260420T003551Z
LOCATION:Inova Fairfax Hospital
LAST-MODIFIED:20260306T174322Z
CREATED:20260306T174322Z
END:VEVENT
END:VCALENDAR
