BEGIN:VCALENDAR
PROID:-//Inova//Class Registration//EN
BEGIN:VEVENT
CLASS:PUBLIC
UID:cf28239a-6420-447d-a799-b4920fd696b6@Class Registration@Inova
DESCRIPTION:Class Name: De la barriga a bebé Clases ICCW (Español)\n\nLocation:\nClínic
 a de Inova Cares para Mujeres\n6400 Arlington Blvd, 1er Piso, Cuarto de conf
 erencia B\nFalls Church, VA, 22042\nGet additional class details at: https:/
 /www.inovaevents.org/CREG/ClassDetails.aspx?sid=0&ClassId=42301\nMap And Dir
 ections: https://maps.google.com/maps?f=q&hl=en&geocode=&q=6400+Arlington+Bl
 vd%2c+1er+Piso%2c+Cuarto+de+conferencia+B,Falls+Church,VA,22042\n\nAdditiona
 l Details:\n\nDe la barriga a bebé Clases ICCW (Español)&nbspabcdsemicolondc
 ba\nEstás registrada(o) en la clase perinatal De la Barriga a Bebé.&nbspabcd
 semicolondcba Esta clase cubre los conceptos básicos del parto y nacimiento,
  el cuidado del recién nacido y la lactancia materna en un formato condensad
 o.&nbsp;&nbsp;&nbsp;\nA los 
 futuros padres se les presentará:&nbsp;\n	-Conceptos básicos
  basados en la evidencia y mejores prácticas&nbsp;\n	-Inform
 ación sobre el trabajo de parto, nacimiento y el puerperio temprano&nbspabcd
 semicolondcba\n	-Información y practicas del cuidado de un recién nacido&nbs
 p;\n	-Cómo prepararse para una experiencia de lactancia exit
 osa y gratificante&nbsp;\n&nbsp;\nLa clase i
 ncluye folletos impresos con información discutida en la case más la aplicac
 ión web que lo acompaña para acceder a videos adicionales en línea.&nbspabcd
 semicolondcba\n\n\nA la clase puede asistir el participante y a una persona 
 de apoyo. Se anima a que asistan las personas de apoyo (pareja o familiar).&
 nbsp;\nDuración de la clase: La sesión de clase tiene una du
 ración de 4 horas&nbsp;\nCosto de la clase: Gratis para los 
 pacientes de la Clínica de Inova Cares para Mujeres&nbsp;\n&
 nbsp;\nUbicación de la clase:&nbsp;\nClínica
  de Inova Cares para Mujeres&nbsp;&nbsp;\n64
 00 Arlington Blvd&nbsp;\n1er Piso, Cuarto de conferencia B&n
 bsp;\nFalls Church, VA 22042&nbsp;\nEstacion
 amiento: Estacione en espacios no marcados como "Reservado"&nbspabcdsemicolo
 ndcba\n&nbsp;\nFecha y hora:&nbsp;&nbspabcds
 emicolondcba\n\n\n\n\n\n\n\n\n\n\n\n\n\n\nSábado&nbsp;25 de 
 Abril&nbsp;de 9 a.m. – 1 p.m.&nbsp;&nbspabcd
 semicolondcba\nCuando asistes a una clase de educación para el perinatal con
  Inova Well, sabes que vas a recibir:&nbsp;\n	-Información c
 onfiable, basada en investigación y experiencia&nbsp;\n	-Un 
 ambiente íntimo donde puedes sentirte cómodo haciendo todas tus preguntas&nb
 sp;\n	-Instructores compasivos con muchos años de experienci
 a cuidando a mamás y bebés&nbsp;\n	-Clases programadas para 
 días y horarios que se adaptan a tu ritmo de vida\n\n	-Todos los estándares 
 de calidad que espera del Sistema de Salud de Inova&nbsp;\n\
 n\n&nbsp;Qué Traer:&nbsp;\n	-Traiga una copi
 a impresa o electrónica de su correo electrónico de confirmación a su clase.
 &nbsp;\n	-Puede traer merienda y bebida. No hay máquinas de 
 comida ni cafeterías cerca.&nbsp;\n\nPolítica del Clima/Canc
 elación:Información sobre cancelaciones debido a las inclemencias del tiempo
  o una emergencia en el área se puede obtener llamando a la línea directa de
  clima de Inova Well al 571-472-1438. Las cancelaciones de clases no siempre
  siguen al cierre de las escuelas públicas locales. Para reprogramar por can
 celación debido a inclemencias del tiempo u otras circunstancias imprevistas
 , llame al 571-472-1400, opción 2 o email myinovawell@inova.org.&nbspabcdsem
 icolondcba&nbsp;
SUMMARY:De la barriga a bebé Clases ICCW (Español)
DTSTART:20260425T130000Z
DTEND:20260425T170000Z
DTSTAMP:20260424T130443Z
LOCATION:Clínica de Inova Cares para Mujeres
LAST-MODIFIED:20260422T125659Z
CREATED:20251205T181353Z
END:VEVENT
END:VCALENDAR
